BEGIN:VCALENDAR
VERSION:2.0
PRODID:-//pretix//pretix.eu//
BEGIN:VTIMEZONE
TZID:Europe/Berlin
BEGIN:STANDARD
DTSTART:20001029T040000
RRULE:FREQ=YEARLY;BYDAY=-1SU;BYMONTH=10
TZNAME:CET
TZOFFSETFROM:+0200
TZOFFSETTO:+0100
END:STANDARD
BEGIN:DAYLIGHT
DTSTART:20000326T030000
RRULE:FREQ=YEARLY;BYDAY=-1SU;BYMONTH=3
TZNAME:CEST
TZOFFSETFROM:+0100
TZOFFSETTO:+0200
END:DAYLIGHT
END:VTIMEZONE
BEGIN:VEVENT
UID:pretix-irongladiators-fanbus-4821474@irongladiators.vereinsticket.de
DTSTART;TZID=Europe/Berlin:20260307T151500
DTEND;TZID=Europe/Berlin:20260307T161500
DESCRIPTION:Tickets: https://irongladiators.vereinsticket.de/fanbus/4821474
 /\nVeranstalter: Iron Gladiators e.V.
DTSTAMP:20260422T094130Z
LOCATION:Parkplatz Römerhalle\, Dr.-Schneider-Straße\, 73560 Böbingen an
  der Rems
SUMMARY:Fanbus TSV Heinsheim e.V.
END:VEVENT
END:VCALENDAR
